BEGIN:VCALENDAR
VERSION:2.0
PRODID:-//Brahma Kumaris                                    - ECPv4.9.3.2//NONSGML v1.0//EN
CALSCALE:GREGORIAN
METHOD:PUBLISH
X-WR-CALNAME:Brahma Kumaris                                   
X-ORIGINAL-URL:https://bk.ooo
X-WR-CALDESC:Events for Brahma Kumaris                                   
BEGIN:VEVENT
DTSTART;TZID=UTC+5.5:20201228T080000
DTEND;TZID=UTC+5.5:20201229T170000
DTSTAMP:20260422T010058
CREATED:20201228T060538Z
LAST-MODIFIED:20201228T060538Z
UID:49852-1609142400-1609261200@bk.ooo
SUMMARY:योग की विभिन्न अवस्थाएँ “LIVE Bhatti Class” – बी के सूरज भाई // 29 Dec 2020 //10:15 AM
DESCRIPTION: \n
URL:https://bk.ooo/event/%e0%a4%af%e0%a5%8b%e0%a4%97-%e0%a4%95%e0%a5%80-%e0%a4%b5%e0%a4%bf%e0%a4%ad%e0%a4%bf%e0%a4%a8%e0%a5%8d%e0%a4%a8-%e0%a4%85%e0%a4%b5%e0%a4%b8%e0%a5%8d%e0%a4%a5%e0%a4%be%e0%a4%8f%e0%a4%81-live-bh/
LOCATION:Brahma Kumaris\, Brahma Kumaris shantivan\, Abu Road\, Rajasthan\, 307510\, India
CATEGORIES:BK Suraj,LIVE,LIVE Events
ATTACH;FMTTYPE=image/png:https://bk.ooo/wp-content/uploads/2020/12/suraj-bhai-2.png
END:VEVENT
END:VCALENDAR