BEGIN:VCALENDAR
VERSION:2.0
PRODID:-//Brahma Kumaris                                    - ECPv4.9.3.2//NONSGML v1.0//EN
CALSCALE:GREGORIAN
METHOD:PUBLISH
X-WR-CALNAME:Brahma Kumaris                                   
X-ORIGINAL-URL:https://bk.ooo
X-WR-CALDESC:Events for Brahma Kumaris                                   
BEGIN:VEVENT
DTSTART;TZID=UTC+5.5:20210710T080000
DTEND;TZID=UTC+5.5:20210710T080000
DTSTAMP:20260422T005521
CREATED:20201016T064645Z
LAST-MODIFIED:20210712T052636Z
UID:47703-1625904000-1625904000@bk.ooo
SUMMARY:Online Avyakt Baba Milan 2021-2022
DESCRIPTION:Online Avyakt Baba Milan 2021-2022\n \n
URL:https://bk.ooo/event/47703/
CATEGORIES:Centre,City wise,LIVE Events,Shantivan,upcoming Events
ATTACH;FMTTYPE=image/jpeg:https://bk.ooo/wp-content/uploads/2020/10/diamond-hall.jpg
END:VEVENT
END:VCALENDAR