BEGIN:VCALENDAR
VERSION:2.0
PRODID:-//Brahma Kumaris                                    - ECPv4.9.3.2//NONSGML v1.0//EN
CALSCALE:GREGORIAN
METHOD:PUBLISH
X-WR-CALNAME:Brahma Kumaris                                   
X-ORIGINAL-URL:https://bk.ooo
X-WR-CALDESC:Events for Brahma Kumaris                                   
BEGIN:VEVENT
DTSTART;TZID=UTC+5.5:20191108T093000
DTEND;TZID=UTC+5.5:20191108T150000
DTSTAMP:20260422T104835
CREATED:20191104T043115Z
LAST-MODIFIED:20191104T044743Z
UID:40251-1573205400-1573225200@bk.ooo
SUMMARY:8 Nov Creative Inspirational Event
DESCRIPTION:A Golden Opportunity for all\nfor employees\, students\, homemakers & all professionals\n\nWelcome to join the spirit of\nHope\, Happiness & Harmony\nan Inspirational Creative Event & Project Launch \nNov 8th\, Friday\, 9:30 am to 3:00 pm (Lunch included)\nGlobal Peace Auditorium – Shnati Sarovar\, Gachibowli\, Hyderabad \n \n  \n
URL:https://bk.ooo/event/creative-inspirational-event/
LOCATION:Global Peace Auditorium\, - Shnati Sarovar\, Gachibowli\,\, Hyderabad\, Rajasthan\, 500032\, India
CATEGORIES:City wise,upcoming Events
ATTACH;FMTTYPE=image/jpeg:https://bk.ooo/wp-content/uploads/2019/11/hydrabad.jpg
END:VEVENT
END:VCALENDAR