BEGIN:VCALENDAR
VERSION:2.0
PRODID:-//Brahma Kumaris                                    - ECPv4.9.3.2//NONSGML v1.0//EN
CALSCALE:GREGORIAN
METHOD:PUBLISH
X-WR-CALNAME:Brahma Kumaris                                   
X-ORIGINAL-URL:https://bk.ooo
X-WR-CALDESC:Events for Brahma Kumaris                                   
BEGIN:VEVENT
DTSTART;TZID=UTC+5.5:20191103T103000
DTEND;TZID=UTC+5.5:20191103T130000
DTSTAMP:20260422T110812
CREATED:20191026T074506Z
LAST-MODIFIED:20191026T074506Z
UID:40169-1572777000-1572786000@bk.ooo
SUMMARY:Foundation Stone Ceremony on 3rd November 2019 in prestigious presence of our beloved Dadi Janki Ji\, Chief Administrative Head of Brahma Kumaris
DESCRIPTION:\n \nKabirpur (Near Indra Nahar)\, Sultanpur Road Lucknow \n03 November\, Sunday 2019\nMorning 10.30 AM\n9455289907\,9140188234 \n
URL:https://bk.ooo/event/foundation-stone-ceremony-on-3rd-november-2019-in-prestigious-presence-of-our-beloved-dadi-janki-ji-chief-administrative-head-of-brahma-kumaris/
LOCATION:Kabirpur (Near Indra Nahar)\, Sultanpur Road\, Lucknow\, UP\, India
CATEGORIES:Centre,City wise,upcoming Events
ATTACH;FMTTYPE=image/jpeg:https://bk.ooo/wp-content/uploads/2019/10/dadi-janki-ji.jpg
END:VEVENT
END:VCALENDAR