BEGIN:VCALENDAR
VERSION:2.0
PRODID:-//Brahma Kumaris                                    - ECPv4.9.3.2//NONSGML v1.0//EN
CALSCALE:GREGORIAN
METHOD:PUBLISH
X-WR-CALNAME:Brahma Kumaris                                   
X-ORIGINAL-URL:https://bk.ooo
X-WR-CALDESC:Events for Brahma Kumaris                                   
BEGIN:VEVENT
DTSTART;TZID=UTC+5.5:20190927T080000
DTEND;TZID=UTC+5.5:20191001T170000
DTSTAMP:20260422T110507
CREATED:20190713T065317Z
LAST-MODIFIED:20190713T071345Z
UID:38642-1569571200-1569949200@bk.ooo
SUMMARY:GLOBAL SUMMIT-CUM-EXPO ON SPIRITUALITY FOR UNITY\, PEACE & PROSPERITY From Sept 27 to Oct 1\, 2019
DESCRIPTION: It is an undeniable fact that science is born out of the womb of Silence and Silence is the gift of Spirituality. Science is internally linked to spirituality. This internal link justifies the deep\, concerted and integrated relationship between science and spirituality and also shows that they are not separate from each other. Today\, we\, the people of the world\, are passing through very “hard times”\, many ironies and global crises which calls for effective and ameliorative steps so that the various agencies like Politics\, Democracy\, Science\, Religions\, Humans and Nature can work in a true spirit of integration while playing their respective roles to create unity\, peace and prosperity based on values\, ethics\, and a new and clear consciousness with practical spiritual orientation. This is possible with inculcation of values\, spirituality and practice of Rajyoga Meditation.\n  \n
URL:https://bk.ooo/event/global-summit-cum-expo-on-spirituality-for-unity-peace-prosperity-from-sept-27-to-oct-1-2019/
LOCATION:brahmakumaris shantivan\, Abu road\, Abu Road\, Rajashthan\, 307510\, India
CATEGORIES:Centre,City wise,Gyansarovar,Shantivan,upcoming Events
ATTACH;FMTTYPE=image/jpeg:https://bk.ooo/wp-content/uploads/2019/07/bkexpo-1.jpg
END:VEVENT
END:VCALENDAR