BEGIN:VCALENDAR
VERSION:2.0
PRODID:-//Brahma Kumaris                                    - ECPv4.9.3.2//NONSGML v1.0//EN
CALSCALE:GREGORIAN
METHOD:PUBLISH
X-WR-CALNAME:Brahma Kumaris                                   
X-ORIGINAL-URL:https://bk.ooo
X-WR-CALDESC:Events for Brahma Kumaris                                   
BEGIN:VEVENT
DTSTART;TZID=UTC+0:20180109T100000
DTEND;TZID=UTC+0:20180109T130000
DTSTAMP:20260424T093045
CREATED:20171229T073244Z
LAST-MODIFIED:20171229T082046Z
UID:9260-1515492000-1515502800@bk.ooo
SUMMARY:MADURAI:INAUGURATION OF  SHAKTI SAROVAR TAPOVAN RETREAT CENTRE
DESCRIPTION:\n		\n			#gallery-1 {\n				margin: auto;\n			}\n			#gallery-1 .gallery-item {\n				float: left;\n				margin-top: 10px;\n				text-align: center;\n				width: 50%;\n			}\n			#gallery-1 img {\n				border: 2px solid #cfcfcf;\n			}\n			#gallery-1 .gallery-caption {\n				margin-left: 0;\n			}\n			/* see gallery_shortcode() in wp-includes/media.php */\n		\n		\n			\n				\n			\n			\n				\n			\n			\n				\n			\n			\n				\n			\n		\n\nINAUGURATION OF \nSHAKTI SAROVAR TAPOVAN RETREAT CENTRE \nVENU: METTUKADAI (DINDIGUL-NATHAM HIGHWAYS) \n9TH JANUARY\,2018 \nRAJYOGINI DADI JANKI JI \n
URL:https://bk.ooo/event/inauguration-of-shakti-sarovar-tapovan-retreat-centre/
LOCATION:METTUKADAI (DINDIGUL-NATHAM HIGHWAYS)\, SHAKTI SAROVAR TAPOVAN RETREAT CENTRE \, MADURAI\, A.P\, 625017\, British Indian Ocean Territory
CATEGORIES:news
ATTACH;FMTTYPE=image/jpeg:https://bk.ooo/wp-content/uploads/2017/12/General_Invitation_English-1.jpg
END:VEVENT
END:VCALENDAR